BEGIN:VCALENDAR
VERSION:2.0
PRODID:icalendar-ruby
CALSCALE:GREGORIAN
METHOD:PUBLISH
BEGIN:VEVENT
DTSTAMP:20260425T031640Z
UID:17-224704@clearvisionchurch.com
DTSTART:20261007T180000Z
DTEND:20261007T190000Z
CLASS:PUBLIC
CREATED:20260424T224523
DESCRIPTION:We currently hold this Bible study for those who like the mid d
 ay time frame. This group is perfect for our seniors.
LAST-MODIFIED:20260424T224523
LOCATION:201 Kern St. Thomasville\, NC 27360
SUMMARY:Vision Group
URL;VALUE=URI:https://clearvisionchurch.com/events/vision-group--17/2026-10
 -07
END:VEVENT
END:VCALENDAR
