BEGIN:VCALENDAR
VERSION:2.0
PRODID:icalendar-ruby
CALSCALE:GREGORIAN
METHOD:PUBLISH
BEGIN:VEVENT
DTSTAMP:20260424T104617Z
UID:16-224008@clearvisionchurch.com
DTSTART:20260712T131500Z
DTEND:20260712T140000Z
CLASS:PUBLIC
CREATED:20260423T231331
DESCRIPTION:Come and join us as we study God's Word together in small group
  setting on Sunday Mornings 
LAST-MODIFIED:20260423T231331
LOCATION:Lower Hall
SUMMARY:Vision Group
URL;VALUE=URI:https://clearvisionchurch.com/events/vision-group/2026-07-12
END:VEVENT
END:VCALENDAR
