BEGIN:VCALENDAR
VERSION:2.0
PRODID:icalendar-ruby
CALSCALE:GREGORIAN
METHOD:PUBLISH
BEGIN:VEVENT
DTSTAMP:20260424T222950Z
UID:16-224448@clearvisionchurch.com
DTSTART:20260906T131500Z
DTEND:20260906T140000Z
CLASS:PUBLIC
CREATED:20260424T170747
DESCRIPTION:Come and join us as we study God's Word together in small group
  setting on Sunday Mornings 
LAST-MODIFIED:20260424T170747
LOCATION:Lower Hall
SUMMARY:Vision Group
URL;VALUE=URI:https://clearvisionchurch.com/events/vision-group/2026-09-06
END:VEVENT
END:VCALENDAR
